BEGIN:VCALENDAR
VERSION:2.0
PRODID:-//Saarringer - ECPv6.6.3//NONSGML v1.0//EN
CALSCALE:GREGORIAN
METHOD:PUBLISH
X-ORIGINAL-URL:https://saarringer.de
X-WR-CALDESC:Veranstaltungen für Saarringer
REFRESH-INTERVAL;VALUE=DURATION:PT1H
X-Robots-Tag:noindex
X-PUBLISHED-TTL:PT1H
BEGIN:VTIMEZONE
TZID:Europe/Berlin
BEGIN:DAYLIGHT
TZOFFSETFROM:+0100
TZOFFSETTO:+0200
TZNAME:CEST
DTSTART:20240331T010000
END:DAYLIGHT
BEGIN:STANDARD
TZOFFSETFROM:+0200
TZOFFSETTO:+0100
TZNAME:CET
DTSTART:20241027T010000
END:STANDARD
END:VTIMEZONE
BEGIN:VEVENT
DTSTART;TZID=Europe/Berlin:20241218T180000
DTEND;TZID=Europe/Berlin:20241218T213000
DTSTAMP:20260421T011756
CREATED:20240709T080202Z
LAST-MODIFIED:20241218T064947Z
UID:10000028-1734544800-1734557400@saarringer.de
SUMMARY:Generalversammlung SRV
DESCRIPTION:Am 18.12.2024 findet die Generalversammlung des SRV statt: \nOrt: Sportcampus Saar \nRaum: 20 \nUhrzeit: 18:00 Uhr
URL:https://saarringer.de/event/generalversammlung-srv/
LOCATION:Saarland
END:VEVENT
END:VCALENDAR