BEGIN:VCALENDAR
VERSION:2.0
PRODID:-//Saarringer - ECPv6.6.3//NONSGML v1.0//EN
CALSCALE:GREGORIAN
METHOD:PUBLISH
X-ORIGINAL-URL:https://saarringer.de
X-WR-CALDESC:Veranstaltungen für Saarringer
REFRESH-INTERVAL;VALUE=DURATION:PT1H
X-Robots-Tag:noindex
X-PUBLISHED-TTL:PT1H
BEGIN:VTIMEZONE
TZID:Europe/Berlin
BEGIN:DAYLIGHT
TZOFFSETFROM:+0100
TZOFFSETTO:+0200
TZNAME:CEST
DTSTART:20240331T010000
END:DAYLIGHT
BEGIN:STANDARD
TZOFFSETFROM:+0200
TZOFFSETTO:+0100
TZNAME:CET
DTSTART:20241027T010000
END:STANDARD
END:VTIMEZONE
BEGIN:VEVENT
DTSTART;TZID=Europe/Berlin:20240831T090000
DTEND;TZID=Europe/Berlin:20240831T170000
DTSTAMP:20260421T061217
CREATED:20240220T084304Z
LAST-MODIFIED:20240710T125430Z
UID:10000014-1725094800-1725123600@saarringer.de
SUMMARY:2. Uwe Kunz Gedächtnisturnier 2024
DESCRIPTION:Ausschreibung Turnier_31.08.2024 \nAchtung neue Halle: \nWiesbachhalle\, Jägerbergstr.5\, 66571 Eppelborn-Wiesbach \nOnlinemeldungen sind möglich unter www.liga-db.de
URL:https://saarringer.de/event/2-uwe-kunz-gedaechtnisturnier-2024/
LOCATION:Wiesbachhalle\, Jägerstraße 5\, Wiesbach\, Saarland\, 66571\, Deutschland
END:VEVENT
END:VCALENDAR