BEGIN:VCALENDAR
VERSION:2.0
PRODID:-//Saarringer - ECPv6.6.3//NONSGML v1.0//EN
CALSCALE:GREGORIAN
METHOD:PUBLISH
X-WR-CALNAME:Saarringer
X-ORIGINAL-URL:https://saarringer.de
X-WR-CALDESC:Veranstaltungen für Saarringer
REFRESH-INTERVAL;VALUE=DURATION:PT1H
X-Robots-Tag:noindex
X-PUBLISHED-TTL:PT1H
BEGIN:VTIMEZONE
TZID:Europe/Berlin
BEGIN:DAYLIGHT
TZOFFSETFROM:+0100
TZOFFSETTO:+0200
TZNAME:CEST
DTSTART:20240331T010000
END:DAYLIGHT
BEGIN:STANDARD
TZOFFSETFROM:+0200
TZOFFSETTO:+0100
TZNAME:CET
DTSTART:20241027T010000
END:STANDARD
END:VTIMEZONE
BEGIN:VEVENT
DTSTART;TZID=Europe/Berlin:20241130T093000
DTEND;TZID=Europe/Berlin:20241130T160000
DTSTAMP:20260421T010735
CREATED:20240914T084803Z
LAST-MODIFIED:20240914T085129Z
UID:10000041-1732959000-1732982400@saarringer.de
SUMMARY:1. Jugend Fun Turnier 2024
DESCRIPTION:Ausschreibung 1. Fun Turnier 14092024 \n \nTeilnahmeberechtigt:  \nAltersklasse 1: 2018 und 2019\nAltersklasse 2: 2016 und 2017\nAltersklasse 3: 2014 und 2015 \nTeilnehmen dürfen nur Sportler*innen\, denen 2024 ein Startausweis ausgestellt wurde.\nDer Jahrgang 2019 darf mit einem Kinderausweis oder einer Geburtsurkunde starten und muss Mitglied in einem Verein innerhalb des DRB sein.
URL:https://saarringer.de/event/1-jugend-fun-turnier-2024/
LOCATION:Turnhalle Schillerschule Heusweiler\, Schillerstraße\, Heusweiler\, Saarland\, 66265\, Deutschland
END:VEVENT
END:VCALENDAR