BEGIN:VCALENDAR
VERSION:2.0
PRODID:-//Saarringer - ECPv6.6.3//NONSGML v1.0//EN
CALSCALE:GREGORIAN
METHOD:PUBLISH
X-ORIGINAL-URL:https://saarringer.de
X-WR-CALDESC:Veranstaltungen für Saarringer
REFRESH-INTERVAL;VALUE=DURATION:PT1H
X-Robots-Tag:noindex
X-PUBLISHED-TTL:PT1H
BEGIN:VTIMEZONE
TZID:Europe/Berlin
BEGIN:DAYLIGHT
TZOFFSETFROM:+0100
TZOFFSETTO:+0200
TZNAME:CEST
DTSTART:20250330T010000
END:DAYLIGHT
BEGIN:STANDARD
TZOFFSETFROM:+0200
TZOFFSETTO:+0100
TZNAME:CET
DTSTART:20251026T010000
END:STANDARD
END:VTIMEZONE
BEGIN:VEVENT
DTSTART;VALUE=DATE:20250503
DTEND;VALUE=DATE:20250504
DTSTAMP:20260420T145042
CREATED:20241219T094024Z
LAST-MODIFIED:20241219T094024Z
UID:10000053-1746230400-1746316799@saarringer.de
SUMMARY:Internationaler Großer Preis des Saarlandes U14/U17 gr.öm. - Preisgeldturnier
DESCRIPTION:Ausschreibung GP 2025 Saarland gr.röm 18.12.2025 \nPreisgeldturnier siehe Ausschreibung! \nAusrichter SRV mit Unterstützung des ASV Hüttigweiler!
URL:https://saarringer.de/event/internationaler-grosser-preis-des-saarlandes-u14-u17-gr-oem-preisgeldturnier/
LOCATION:Sportcampus Illingen\, Gymnasialstraße 141\, Illingen\, Saarland\, 66557
END:VEVENT
BEGIN:VEVENT
DTSTART;VALUE=DATE:20250509
DTEND;VALUE=DATE:20250511
DTSTAMP:20260420T145042
CREATED:20240919T112734Z
LAST-MODIFIED:20240919T112734Z
UID:10000046-1746748800-1746921599@saarringer.de
SUMMARY:Deutsche Mannschaftsmeisterschaft Schüler im Rheinland
DESCRIPTION:Ausschreibung folgt!
URL:https://saarringer.de/event/deutsche-mannschaftsmeisterschaft-schueler-im-rheinland/
LOCATION:Saarland
END:VEVENT
BEGIN:VEVENT
DTSTART;VALUE=DATE:20250516
DTEND;VALUE=DATE:20250518
DTSTAMP:20260420T145042
CREATED:20240917T124344Z
LAST-MODIFIED:20240917T124421Z
UID:10000044-1747353600-1747526399@saarringer.de
SUMMARY:Länderteams-Cup 2025 - Mansfelder Land / SAH
DESCRIPTION:Ausschreibung folgt!
URL:https://saarringer.de/event/laenderteams-cup-2025-mansfelder-land-sah/
LOCATION:Saarland
END:VEVENT
BEGIN:VEVENT
DTSTART;VALUE=DATE:20250523
DTEND;VALUE=DATE:20250525
DTSTAMP:20260420T145042
CREATED:20240919T112939Z
LAST-MODIFIED:20250103T063700Z
UID:10000047-1747958400-1748131199@saarringer.de
SUMMARY:Deutsche Mannschaftsmeisterschaft Jugend - AC Heusweiler
DESCRIPTION:Ausschreibung_DM_2025_2025_01_02
URL:https://saarringer.de/event/deutsche-mannschaftsmeisterschaft-jugend-ac-heusweiler/
LOCATION:Turnhalle Schillerschule Heusweiler\, Schillerstraße\, Heusweiler\, Saarland\, 66265\, Deutschland
END:VEVENT
BEGIN:VEVENT
DTSTART;TZID=Europe/Berlin:20250531T080000
DTEND;TZID=Europe/Berlin:20250531T170000
DTSTAMP:20260420T145042
CREATED:20241219T091005Z
LAST-MODIFIED:20241219T091005Z
UID:10000052-1748678400-1748710800@saarringer.de
SUMMARY:25. internationales Heinz Kläs Gedächtnisturnier 2025
DESCRIPTION:Ausschreibung Heinz Kläs Turnier 2025
URL:https://saarringer.de/event/25-internationales-heinz-klaes-gedaechtnisturnier-2025/
LOCATION:Trimmtreff Viktoria\, Köllertalstr. 143\, Püttlingen\, Saarland\, 66346\, Deutschland
END:VEVENT
END:VCALENDAR