BEGIN:VCALENDAR
VERSION:2.0
PRODID:-//Saarringer - ECPv6.6.3//NONSGML v1.0//EN
CALSCALE:GREGORIAN
METHOD:PUBLISH
X-WR-CALNAME:Saarringer
X-ORIGINAL-URL:https://saarringer.de
X-WR-CALDESC:Veranstaltungen für Saarringer
REFRESH-INTERVAL;VALUE=DURATION:PT1H
X-Robots-Tag:noindex
X-PUBLISHED-TTL:PT1H
BEGIN:VTIMEZONE
TZID:Europe/Berlin
BEGIN:DAYLIGHT
TZOFFSETFROM:+0100
TZOFFSETTO:+0200
TZNAME:CEST
DTSTART:20250330T010000
END:DAYLIGHT
BEGIN:STANDARD
TZOFFSETFROM:+0200
TZOFFSETTO:+0100
TZNAME:CET
DTSTART:20251026T010000
END:STANDARD
END:VTIMEZONE
BEGIN:VEVENT
DTSTART;VALUE=DATE:20250608
DTEND;VALUE=DATE:20250609
DTSTAMP:20260420T130930
CREATED:20241129T074159Z
LAST-MODIFIED:20241129T074419Z
UID:10000051-1749340800-1749427199@saarringer.de
SUMMARY:48. Intern Pfingsturnier/ 7. Horst Hoppe Gedächtnistuernier
DESCRIPTION:Ausschreibung 48. internationales Pfingstturnier 2025
URL:https://saarringer.de/event/48-intern-pfingsturnier-7-horst-hoppe-gedaechtnistuernier/
LOCATION:Sportzentrum Gersweiler\, Krughütterstraße\, 66127 Saarbrücken\, Krughütterstraße\, Saarbrücken-Gersweiler\, Saarland\, 66127\, Deutschland
END:VEVENT
BEGIN:VEVENT
DTSTART;VALUE=DATE:20250620
DTEND;VALUE=DATE:20250623
DTSTAMP:20260420T130930
CREATED:20240917T124911Z
LAST-MODIFIED:20250103T063617Z
UID:10000045-1750377600-1750636799@saarringer.de
SUMMARY:Deutsche Meisterschaften Männer und Frauen 2025 in Elsenfeld
DESCRIPTION:Ausschreibung_DM_2025_2025_01_02
URL:https://saarringer.de/event/deutsche-meisterschaften-maenner-und-frauen-2025-in-elsenfeld/
LOCATION:Untermeinhalle Elsenfeld\, Am Dammsfeld 1\, Elsenfeld\, Bayern\, 63820\, Deutschland
END:VEVENT
BEGIN:VEVENT
DTSTART;VALUE=DATE:20250629
DTEND;VALUE=DATE:20250630
DTSTAMP:20260420T130930
CREATED:20241110T121714Z
LAST-MODIFIED:20241110T121714Z
UID:10000048-1751155200-1751241599@saarringer.de
SUMMARY:26. Intern\, Hermann Schwindling Gedächtnisturnier
DESCRIPTION:Ausschreibung Hermann Schwindling Gedächtnisturnier 2025
URL:https://saarringer.de/event/26-intern-hermann-schwindling-gedaechtnisturnier/
LOCATION:Riegelsberghalle\, Alleestraße\, Riegelsberg\, Saarland\, 66292\, Deutschland
END:VEVENT
END:VCALENDAR